BEGIN:VCALENDAR
VERSION:2.0
PRODID:-//Tukios.com/
BEGIN:VEVENT
UID:562c8010-618e-495e-a92b-7cdf8a71d567@www.bartonfuneralhome.net
DTSTAMP:20260422T220510Z
DTSTART:20260426T170000Z
DTEND:20260426T190000Z
SUMMARY:Visitation
DESCRIPTION:
URL:https://www.bartonfuneralhome.net/obituaries/rev-calvin-miller-jr
LOCATION:Barton Funeral Home 131 Summer Street PO Box 265 Adairsville GA 
	30103
GEO:34.3671563;-84.9283056
END:VEVENT
END:VCALENDAR