BEGIN:VCALENDAR
VERSION:2.0
PRODID:-//Tukios.com/
BEGIN:VEVENT
UID:1cdbf3aa-9399-42fb-a67f-43f18e4ee3ff@www.bartonfuneralhome.net
DTSTAMP:20260421T184459Z
DTSTART:20260423T220000Z
DTEND:20260424T000000Z
SUMMARY:Visitation
DESCRIPTION:
URL:https://www.bartonfuneralhome.net/obituaries/rhonda-smathers
LOCATION: 131 Summer Street PO Box 265 Adairsville GA 30103
GEO:34.3671563;-84.9283056
END:VEVENT
END:VCALENDAR