BEGIN:VCALENDAR
VERSION:2.0
PRODID:-//Tukios.com/
BEGIN:VEVENT
UID:b37c8899-c153-4333-b9a2-0363ea9342c1@www.bartonfuneralhome.net
DTSTAMP:20260421T184153Z
DTSTART:20260424T180000Z
DTEND:20260424T190000Z
SUMMARY:Funeral Service
DESCRIPTION:
URL:https://www.bartonfuneralhome.net/obituaries/rhonda-smathers
LOCATION:Stoner Chapel Baptist church 26 Stoners Chapel Road Northwest  
	Adairsville GA 30103
GEO:34.332092;-84.910164
END:VEVENT
END:VCALENDAR