BEGIN:VCALENDAR
VERSION:2.0
PRODID:-//Tukios.com/
BEGIN:VEVENT
UID:9cde05d1-16fe-4b80-a110-9fbc660f1c28@www.bartonfuneralhome.net
DTSTAMP:20260423T200153Z
DTSTART:20260424T150000Z
DTEND:20260424T160000Z
SUMMARY:Graveside Service
DESCRIPTION:
URL:https://www.bartonfuneralhome.net/obituaries/vera-smith
LOCATION:Smith Family Cemetery 24 Ward Mountain Trail, NW  Adairsville GA 
	30103
GEO:34.3282651;-84.9416177
END:VEVENT
END:VCALENDAR